BEGIN:VCALENDAR
VERSION:2.0
PRODID:-//St John XXIII Parish - ECPv6.15.20//NONSGML v1.0//EN
CALSCALE:GREGORIAN
METHOD:PUBLISH
X-ORIGINAL-URL:https://johnxxiii.ch
X-WR-CALDESC:Events for St John XXIII Parish
REFRESH-INTERVAL;VALUE=DURATION:PT1H
X-Robots-Tag:noindex
X-PUBLISHED-TTL:PT1H
BEGIN:VTIMEZONE
TZID:Europe/Zurich
BEGIN:DAYLIGHT
TZOFFSETFROM:+0100
TZOFFSETTO:+0200
TZNAME:CEST
DTSTART:20250330T010000
END:DAYLIGHT
BEGIN:STANDARD
TZOFFSETFROM:+0200
TZOFFSETTO:+0100
TZNAME:CET
DTSTART:20251026T010000
END:STANDARD
BEGIN:DAYLIGHT
TZOFFSETFROM:+0100
TZOFFSETTO:+0200
TZNAME:CEST
DTSTART:20260329T010000
END:DAYLIGHT
BEGIN:STANDARD
TZOFFSETFROM:+0200
TZOFFSETTO:+0100
TZNAME:CET
DTSTART:20261025T010000
END:STANDARD
BEGIN:DAYLIGHT
TZOFFSETFROM:+0100
TZOFFSETTO:+0200
TZNAME:CEST
DTSTART:20270328T010000
END:DAYLIGHT
BEGIN:STANDARD
TZOFFSETFROM:+0200
TZOFFSETTO:+0100
TZNAME:CET
DTSTART:20271031T010000
END:STANDARD
END:VTIMEZONE
BEGIN:VEVENT
DTSTART;TZID=Europe/Zurich:20260502T100000
DTEND;TZID=Europe/Zurich:20260502T120000
DTSTAMP:20260423T123115
CREATED:20250206T100615Z
LAST-MODIFIED:20260225T082941Z
UID:32894-1777716000-1777723200@johnxxiii.ch
SUMMARY:First Reconciliation
DESCRIPTION:First Reconciliation for our catechism class.
URL:https://johnxxiii.ch/event/first-reconciliation-2/
LOCATION:Church\, 57 Rue de Montbrillant\, 1202 Geneva\, 1202\, Switzerland
CATEGORIES:REC
ATTACH;FMTTYPE=image/jpeg:https://johnxxiii.ch/wp-content/uploads/2023/03/reconciliation.jpeg
ORGANIZER;CN="REC":MAILTO:dre@johnxxiii.ch
END:VEVENT
BEGIN:VEVENT
DTSTART;TZID=Europe/Zurich:20260503T090000
DTEND;TZID=Europe/Zurich:20260503T090000
DTSTAMP:20260423T123115
CREATED:20250205T095146Z
LAST-MODIFIED:20260106T105500Z
UID:32854-1777798800-1777798800@johnxxiii.ch
SUMMARY:Barrio Fiesta
DESCRIPTION:Our Filipino Community will have a ‘Barrio Fiesta’ food sale which will showcase the various Filipino food and delicacies after the 9 and 11 masses.
URL:https://johnxxiii.ch/event/barrio-fiesta/
LOCATION:Church Grounds\, 57 Rue de Montbrillant\, 1202 Geneva\, 1202\, Switzerland
CATEGORIES:Fundraising
ATTACH;FMTTYPE=image/png:https://johnxxiii.ch/wp-content/uploads/2023/04/Barrio-fiesta.png
ORGANIZER;CN="office":MAILTO:web@johnxxiii.ch
END:VEVENT
BEGIN:VEVENT
DTSTART;TZID=Europe/Zurich:20260509T100000
DTEND;TZID=Europe/Zurich:20260509T230000
DTSTAMP:20260423T123115
CREATED:20250205T100857Z
LAST-MODIFIED:20260225T082837Z
UID:32864-1778320800-1778367600@johnxxiii.ch
SUMMARY:Confirmation
DESCRIPTION:Sacrament of Confirmation for our 2026 confirmation class.
URL:https://johnxxiii.ch/event/confirmation/
LOCATION:Church\, 57 Rue de Montbrillant\, 1202 Geneva\, 1202\, Switzerland
CATEGORIES:REC
ATTACH;FMTTYPE=image/jpeg:https://johnxxiii.ch/wp-content/uploads/2025/02/confimation1-e1738751264624.jpg
ORGANIZER;CN="REC":MAILTO:dre@johnxxiii.ch
END:VEVENT
BEGIN:VEVENT
DTSTART;TZID=Europe/Zurich:20260509T110000
DTEND;TZID=Europe/Zurich:20260509T130000
DTSTAMP:20260423T123115
CREATED:20260107T091609Z
LAST-MODIFIED:20260107T091909Z
UID:33652-1778324400-1778331600@johnxxiii.ch
SUMMARY:Women's Brunch
DESCRIPTION:
URL:https://johnxxiii.ch/event/womens-brunch-4/
CATEGORIES:Ministry
ATTACH;FMTTYPE=image/jpeg:https://johnxxiii.ch/wp-content/uploads/2025/08/WomenBrunch1web.jpg
END:VEVENT
BEGIN:VEVENT
DTSTART;TZID=Europe/Zurich:20260516T100000
DTEND;TZID=Europe/Zurich:20260516T110000
DTSTAMP:20260423T123115
CREATED:20250205T101637Z
LAST-MODIFIED:20260225T083107Z
UID:32866-1778925600-1778929200@johnxxiii.ch
SUMMARY:First Communion
DESCRIPTION:Sacrament of First Communion for our first communion students. 
URL:https://johnxxiii.ch/event/first-communion/
LOCATION:Church\, 57 Rue de Montbrillant\, 1202 Geneva\, 1202\, Switzerland
CATEGORIES:REC
ATTACH;FMTTYPE=image/jpeg:https://johnxxiii.ch/wp-content/uploads/2025/02/firstcommunion1-e1738751147207.jpg
ORGANIZER;CN="REC":MAILTO:dre@johnxxiii.ch
END:VEVENT
BEGIN:VEVENT
DTSTART;TZID=Europe/Zurich:20260521T183000
DTEND;TZID=Europe/Zurich:20260521T200000
DTSTAMP:20260423T123115
CREATED:20250205T100322Z
LAST-MODIFIED:20260318T085805Z
UID:32860-1779388200-1779393600@johnxxiii.ch
SUMMARY:Walking With Purpose
DESCRIPTION:Walking with Purpose is a Catholic Bible study for women that aims to bring women to a deeper personal relationship with Christ. Through personal study and small group discussions\, the group helps to link our everyday challenges with solutions given to us through the teachings of Christ and the Catholic Church. Every Thursday evenings at 18:30 – 20:00 \nRegister HERE sessions will be here in the Parish on Thursday Evenings
URL:https://johnxxiii.ch/event/walking-with-purpose-10/
LOCATION:G1\, 57 Rue de Montbrillant\, 1202 Geneva\, 1202\, Switzerland
CATEGORIES:Ministry
ATTACH;FMTTYPE=image/jpeg:https://johnxxiii.ch/wp-content/uploads/2023/09/walkingwithpurpose2022.jpg
END:VEVENT
BEGIN:VEVENT
DTSTART;TZID=Europe/Zurich:20260523T100000
DTEND;TZID=Europe/Zurich:20260523T130000
DTSTAMP:20260423T123115
CREATED:20260107T094228Z
LAST-MODIFIED:20260107T094246Z
UID:33663-1779530400-1779541200@johnxxiii.ch
SUMMARY:Growth in Prayer and Reflective Living (GPRL)
DESCRIPTION:The GPRL Programme for 2026 invites participants to deepen their relationship with God through prayer\, reflection\, and lived experience. While the programme includes input on different aspects of prayer and Ignatian spirituality\, its primary emphasis is experiential. Participants are invited to discover\, for themselves\, a God who is personal and present in their lives.
URL:https://johnxxiii.ch/event/growth-in-prayer-and-reflective-living-gprl-4/
CATEGORIES:Ministry
ATTACH;FMTTYPE=image/jpeg:https://johnxxiii.ch/wp-content/uploads/2026/01/gprl2025.jpg
END:VEVENT
BEGIN:VEVENT
DTSTART;TZID=Europe/Zurich:20260530T090000
DTEND;TZID=Europe/Zurich:20260530T220000
DTSTAMP:20260423T123115
CREATED:20250205T094606Z
LAST-MODIFIED:20260107T090511Z
UID:32852-1780131600-1780178400@johnxxiii.ch
SUMMARY:Men's Breakfast
DESCRIPTION:Our monthly Men’s Breakfast takes place on the last Saturday of each month in the parish house\, at 09h00. – No need to sign up – just turn up! Please come along\, you’ll be most welcome\, we look forward to welcoming anyone who has just arrived in Geneva\, please come along and give it a go!
URL:https://johnxxiii.ch/event/mens-breakfast-2/
LOCATION:G1\, 57 Rue de Montbrillant\, 1202 Geneva\, 1202\, Switzerland
CATEGORIES:Ministry
ATTACH;FMTTYPE=image/jpeg:https://johnxxiii.ch/wp-content/uploads/2025/01/croissants1.jpg
END:VEVENT
BEGIN:VEVENT
DTSTART;TZID=Europe/Zurich:20260531T090000
DTEND;TZID=Europe/Zurich:20260531T163000
DTSTAMP:20260423T123115
CREATED:20250205T102306Z
LAST-MODIFIED:20260106T105707Z
UID:32873-1780218000-1780245000@johnxxiii.ch
SUMMARY:International Food Festival
DESCRIPTION:Every year our food festival is the fundraising event for our parish. The parish relies on the money raised to help maintain our facilities and fund our youth programmes.
URL:https://johnxxiii.ch/event/international-food-festival/
LOCATION:Church Grounds\, 57 Rue de Montbrillant\, 1202 Geneva\, 1202\, Switzerland
CATEGORIES:Fundraising
ATTACH;FMTTYPE=image/jpeg:https://johnxxiii.ch/wp-content/uploads/2022/05/foodfestival1.jpg
ORGANIZER;CN="office":MAILTO:web@johnxxiii.ch
END:VEVENT
END:VCALENDAR