BEGIN:VCALENDAR
VERSION:2.0
PRODID:-//St John XXIII Parish - ECPv6.15.20//NONSGML v1.0//EN
CALSCALE:GREGORIAN
METHOD:PUBLISH
X-WR-CALNAME:St John XXIII Parish
X-ORIGINAL-URL:https://johnxxiii.ch
X-WR-CALDESC:Events for St John XXIII Parish
REFRESH-INTERVAL;VALUE=DURATION:PT1H
X-Robots-Tag:noindex
X-PUBLISHED-TTL:PT1H
BEGIN:VTIMEZONE
TZID:Europe/Zurich
BEGIN:DAYLIGHT
TZOFFSETFROM:+0100
TZOFFSETTO:+0200
TZNAME:CEST
DTSTART:20250330T010000
END:DAYLIGHT
BEGIN:STANDARD
TZOFFSETFROM:+0200
TZOFFSETTO:+0100
TZNAME:CET
DTSTART:20251026T010000
END:STANDARD
BEGIN:DAYLIGHT
TZOFFSETFROM:+0100
TZOFFSETTO:+0200
TZNAME:CEST
DTSTART:20260329T010000
END:DAYLIGHT
BEGIN:STANDARD
TZOFFSETFROM:+0200
TZOFFSETTO:+0100
TZNAME:CET
DTSTART:20261025T010000
END:STANDARD
BEGIN:DAYLIGHT
TZOFFSETFROM:+0100
TZOFFSETTO:+0200
TZNAME:CEST
DTSTART:20270328T010000
END:DAYLIGHT
BEGIN:STANDARD
TZOFFSETFROM:+0200
TZOFFSETTO:+0100
TZNAME:CET
DTSTART:20271031T010000
END:STANDARD
END:VTIMEZONE
BEGIN:VEVENT
DTSTART;TZID=Europe/Zurich:20260212T183000
DTEND;TZID=Europe/Zurich:20260212T200000
DTSTAMP:20260423T135542
CREATED:20250205T094415Z
LAST-MODIFIED:20251120T104939Z
UID:32850-1770921000-1770926400@johnxxiii.ch
SUMMARY:Walking with Purpose
DESCRIPTION:Walking with Purpose is a Catholic Bible study for women that aims to bring women to a deeper personal relationship with Christ. Through personal study and small group discussions\, the group helps to link our everyday challenges with solutions given to us through the teachings of Christ and the Catholic Church. Every Thursday evenings at 18:30 – 20:00 \nRegister HERE sessions will be here in the Parish on Thursday Evenings
URL:https://johnxxiii.ch/event/walking-with-purpose-8/
LOCATION:G1\, 57 Rue de Montbrillant\, 1202 Geneva\, 1202\, Switzerland
CATEGORIES:Ministry
ATTACH;FMTTYPE=image/jpeg:https://johnxxiii.ch/wp-content/uploads/2023/09/walkingwithpurpose2022.jpg
END:VEVENT
BEGIN:VEVENT
DTSTART;TZID=Europe/Zurich:20260213T183000
DTEND;TZID=Europe/Zurich:20260213T203000
DTSTAMP:20260423T135542
CREATED:20260210T081918Z
LAST-MODIFIED:20260210T081918Z
UID:33737-1771007400-1771014600@johnxxiii.ch
SUMMARY:Faith in Orbit: An Astronaut’s Journey Through God’s Creation
DESCRIPTION:Come and join us for a conversation between  Archbishop Ettore Balestrero\, Papal Nuncio and Colonel Mike Hopkins\, NASA Astronaut (2009-2023) who will speak about his space missions\, his faith journey\, and how science and spirituality can intersect in meaningful ways — encouraging curiosity\, wonder\, and a broader perspective on life and our world.  \nAn opportunity to take part in a Q&A session with Colonel Hopkins will follow. \nFriday 13 February 2026  Snacks at 18h30 followed by talk 19h15  \nSt John XXIII\, rue de Montbrillant 57
URL:https://johnxxiii.ch/event/faith-in-orbit-an-astronauts-journey-through-gods-creation/
LOCATION:Church\, 57 Rue de Montbrillant\, 1202 Geneva\, 1202\, Switzerland
CATEGORIES:ECR
ATTACH;FMTTYPE=image/jpeg:https://johnxxiii.ch/wp-content/uploads/2026/02/astronaut1.jpg
END:VEVENT
BEGIN:VEVENT
DTSTART;TZID=Europe/Zurich:20260214T110000
DTEND;TZID=Europe/Zurich:20260214T130000
DTSTAMP:20260423T135542
CREATED:20250915T090609Z
LAST-MODIFIED:20260107T091000Z
UID:33402-1771066800-1771074000@johnxxiii.ch
SUMMARY:Women's Brunch
DESCRIPTION:
URL:https://johnxxiii.ch/event/womens-brunch-2/
CATEGORIES:PPC
ATTACH;FMTTYPE=image/jpeg:https://johnxxiii.ch/wp-content/uploads/2025/08/WomenBrunch1web.jpg
END:VEVENT
BEGIN:VEVENT
DTSTART;TZID=Europe/Zurich:20260219T183000
DTEND;TZID=Europe/Zurich:20260219T200000
DTSTAMP:20260423T135542
CREATED:20250205T094105Z
LAST-MODIFIED:20260107T082331Z
UID:32848-1771525800-1771531200@johnxxiii.ch
SUMMARY:Walking with Purpose
DESCRIPTION:Walking with Purpose is a Catholic Bible study for women that aims to bring women to a deeper personal relationship with Christ. Through personal study and small group discussions\, the group helps to link our everyday challenges with solutions given to us through the teachings of Christ and the Catholic Church. Every Thursday evenings at 18:30 – 20:00 \nRegister HERE sessions will be here in the Parish on Thursday Evenings
URL:https://johnxxiii.ch/event/walking-with-purpose-7/
LOCATION:B7\, 57 Rue de Montbrillant\, 1202 Geneva\, 1202\, Switzerland
CATEGORIES:Ministry
ATTACH;FMTTYPE=image/jpeg:https://johnxxiii.ch/wp-content/uploads/2023/09/walkingwithpurpose2022.jpg
END:VEVENT
BEGIN:VEVENT
DTSTART;TZID=Europe/Zurich:20260221T100000
DTEND;TZID=Europe/Zurich:20260221T160000
DTSTAMP:20260423T135542
CREATED:20260107T093710Z
LAST-MODIFIED:20260107T093710Z
UID:33656-1771668000-1771689600@johnxxiii.ch
SUMMARY:Growth in Prayer and Reflective Living (GPRL)
DESCRIPTION:The GPRL Programme for 2026 invites participants to deepen their relationship with God through prayer\, reflection\, and lived experience. While the programme includes input on different aspects of prayer and Ignatian spirituality\, its primary emphasis is experiential. Participants are invited to discover\, for themselves\, a God who is personal and present in their lives.
URL:https://johnxxiii.ch/event/growth-in-prayer-and-reflective-living-gprl/
LOCATION:G1\, 57 Rue de Montbrillant\, 1202 Geneva\, 1202\, Switzerland
CATEGORIES:Ministry
ATTACH;FMTTYPE=image/jpeg:https://johnxxiii.ch/wp-content/uploads/2026/01/gprl2025.jpg
END:VEVENT
BEGIN:VEVENT
DTSTART;TZID=Europe/Zurich:20260228T090000
DTEND;TZID=Europe/Zurich:20260228T100000
DTSTAMP:20260423T135542
CREATED:20250206T095020Z
LAST-MODIFIED:20260107T084034Z
UID:32890-1772269200-1772272800@johnxxiii.ch
SUMMARY:Men's Breakfast
DESCRIPTION:Our monthly Men’s Breakfast takes place on the last Saturday of each month in the parish house\, at 09h00. – No need to sign up – just turn up! Please come along\, you’ll be most welcome\, we look forward to welcoming anyone who has just arrived in Geneva\, please come along and give it a go!
URL:https://johnxxiii.ch/event/mens-breakfast-6/
LOCATION:G1\, 57 Rue de Montbrillant\, 1202 Geneva\, 1202\, Switzerland
CATEGORIES:Ministry
ATTACH;FMTTYPE=image/jpeg:https://johnxxiii.ch/wp-content/uploads/2025/01/croissants1.jpg
END:VEVENT
END:VCALENDAR