BEGIN:VCALENDAR
VERSION:2.0
PRODID:-//St John XXIII Parish - ECPv6.15.20//NONSGML v1.0//EN
CALSCALE:GREGORIAN
METHOD:PUBLISH
X-WR-CALNAME:St John XXIII Parish
X-ORIGINAL-URL:https://johnxxiii.ch
X-WR-CALDESC:Events for St John XXIII Parish
REFRESH-INTERVAL;VALUE=DURATION:PT1H
X-Robots-Tag:noindex
X-PUBLISHED-TTL:PT1H
BEGIN:VTIMEZONE
TZID:Europe/Zurich
BEGIN:DAYLIGHT
TZOFFSETFROM:+0100
TZOFFSETTO:+0200
TZNAME:CEST
DTSTART:20240331T010000
END:DAYLIGHT
BEGIN:STANDARD
TZOFFSETFROM:+0200
TZOFFSETTO:+0100
TZNAME:CET
DTSTART:20241027T010000
END:STANDARD
BEGIN:DAYLIGHT
TZOFFSETFROM:+0100
TZOFFSETTO:+0200
TZNAME:CEST
DTSTART:20250330T010000
END:DAYLIGHT
BEGIN:STANDARD
TZOFFSETFROM:+0200
TZOFFSETTO:+0100
TZNAME:CET
DTSTART:20251026T010000
END:STANDARD
BEGIN:DAYLIGHT
TZOFFSETFROM:+0100
TZOFFSETTO:+0200
TZNAME:CEST
DTSTART:20260329T010000
END:DAYLIGHT
BEGIN:STANDARD
TZOFFSETFROM:+0200
TZOFFSETTO:+0100
TZNAME:CET
DTSTART:20261025T010000
END:STANDARD
END:VTIMEZONE
BEGIN:VEVENT
DTSTART;TZID=Europe/Zurich:20251101T183000
DTEND;TZID=Europe/Zurich:20251101T220000
DTSTAMP:20260424T103826
CREATED:20250205T110844Z
LAST-MODIFIED:20251030T095604Z
UID:32883-1762021800-1762034400@johnxxiii.ch
SUMMARY:Choir Concert
DESCRIPTION:The different choirs of the parish come together to do a joint concert for the parish.
URL:https://johnxxiii.ch/event/choir-concert-tentative/
LOCATION:Church\, 57 Rue de Montbrillant\, 1202 Geneva\, 1202\, Switzerland
CATEGORIES:Liturgical
ATTACH;FMTTYPE=image/jpeg:https://johnxxiii.ch/wp-content/uploads/2025/10/Concert-poster-2025.2.jpg
END:VEVENT
BEGIN:VEVENT
DTSTART;TZID=Europe/Zurich:20251118T183000
DTEND;TZID=Europe/Zurich:20251118T210000
DTSTAMP:20260424T103826
CREATED:20251030T111547Z
LAST-MODIFIED:20251030T113030Z
UID:33500-1763490600-1763499600@johnxxiii.ch
SUMMARY:Homelessness
DESCRIPTION:The main purpose of the event of the 18th November is to showcase how a faith-based organisation has responded to the plight of Homelessness to offer hope and interrupt extreme poverty. Because our world is full of wars and other conflicts\, it is sometimes difficult to see that there are good things happening in the world. The event is about one of the many good things going on and sometimes in hidden ways. It is to mark the Pilgrim year of hope.  Therefore we will work with what the spirit of God Inspires. \n 
URL:https://johnxxiii.ch/event/homelessness/
LOCATION:G1\, 57 Rue de Montbrillant\, 1202 Geneva\, 1202\, Switzerland
CATEGORIES:Ministry
ATTACH;FMTTYPE=image/jpeg:https://johnxxiii.ch/wp-content/uploads/2025/10/Flyer-on-Homelessness.jpg
END:VEVENT
BEGIN:VEVENT
DTSTART;TZID=Europe/Zurich:20251129T093000
DTEND;TZID=Europe/Zurich:20251129T170000
DTSTAMP:20260424T103826
CREATED:20250219T095350Z
LAST-MODIFIED:20251030T112552Z
UID:32996-1764408600-1764435600@johnxxiii.ch
SUMMARY:Praying for Advent
DESCRIPTION:St John XXIII Parish and the Ignatian Spirituality Community (ISC) – Geneva invite you through the different ways of prayer to enter into Advent and encounter our God in a deeper and more personal way.  \nDiscover the richness of some of the different ways of prayer: \n\n\nWith scriptures (Lectio Divina) \n\n\nImaginative Contemplation \n\n\nWith a picture or Icon  \n\n\nIn song and music or  \n\n\nThe Examen – Review of the day  \n\n\nand so create opportunities to a deeper personal relationship with God through this period of Advent. \nWhen:       Saturday\, 29 November 2025 \nWhere:      St John XXIII Parish\, Geneva \nTime:  10.00 – 17.00 CET
URL:https://johnxxiii.ch/event/tapestry-of-prayer/
LOCATION:G1\, 57 Rue de Montbrillant\, 1202 Geneva\, 1202\, Switzerland
CATEGORIES:Ministry
ATTACH;FMTTYPE=image/jpeg:https://johnxxiii.ch/wp-content/uploads/2025/10/Prayer-Day-November-2025-page1.jpg
END:VEVENT
END:VCALENDAR