BEGIN:VCALENDAR
VERSION:2.0
PRODID:-//St John XXIII Parish - ECPv6.15.20//NONSGML v1.0//EN
CALSCALE:GREGORIAN
METHOD:PUBLISH
X-ORIGINAL-URL:https://johnxxiii.ch
X-WR-CALDESC:Events for St John XXIII Parish
REFRESH-INTERVAL;VALUE=DURATION:PT1H
X-Robots-Tag:noindex
X-PUBLISHED-TTL:PT1H
BEGIN:VTIMEZONE
TZID:Europe/Zurich
BEGIN:DAYLIGHT
TZOFFSETFROM:+0100
TZOFFSETTO:+0200
TZNAME:CEST
DTSTART:20240331T010000
END:DAYLIGHT
BEGIN:STANDARD
TZOFFSETFROM:+0200
TZOFFSETTO:+0100
TZNAME:CET
DTSTART:20241027T010000
END:STANDARD
BEGIN:DAYLIGHT
TZOFFSETFROM:+0100
TZOFFSETTO:+0200
TZNAME:CEST
DTSTART:20250330T010000
END:DAYLIGHT
BEGIN:STANDARD
TZOFFSETFROM:+0200
TZOFFSETTO:+0100
TZNAME:CET
DTSTART:20251026T010000
END:STANDARD
BEGIN:DAYLIGHT
TZOFFSETFROM:+0100
TZOFFSETTO:+0200
TZNAME:CEST
DTSTART:20260329T010000
END:DAYLIGHT
BEGIN:STANDARD
TZOFFSETFROM:+0200
TZOFFSETTO:+0100
TZNAME:CET
DTSTART:20261025T010000
END:STANDARD
END:VTIMEZONE
BEGIN:VEVENT
DTSTART;TZID=Europe/Zurich:20250503T100000
DTEND;TZID=Europe/Zurich:20250503T120000
DTSTAMP:20260423T054608
CREATED:20250206T100433Z
LAST-MODIFIED:20250206T100433Z
UID:32892-1746266400-1746273600@johnxxiii.ch
SUMMARY:First Reconciliation
DESCRIPTION:First Reconciliation for our catechism class.
URL:https://johnxxiii.ch/event/first-reconciliation/
LOCATION:Church\, 57 Rue de Montbrillant\, 1202 Geneva\, 1202\, Switzerland
CATEGORIES:REC
ATTACH;FMTTYPE=image/jpeg:https://johnxxiii.ch/wp-content/uploads/2023/03/reconciliation.jpeg
ORGANIZER;CN="REC":MAILTO:dre@johnxxiii.ch
END:VEVENT
BEGIN:VEVENT
DTSTART;TZID=Europe/Zurich:20250304T183000
DTEND;TZID=Europe/Zurich:20250304T193000
DTSTAMP:20260423T054608
CREATED:20250205T091314Z
LAST-MODIFIED:20250205T091314Z
UID:32841-1741113000-1741116600@johnxxiii.ch
SUMMARY:Reconciliation Parent's Meeting
DESCRIPTION:For parents receiving their First Reconciliation  on the 3rd May and 10th May\, 10h00 to 11h45 . \n(A schedule will been sent out\, parents have some room to negotiate a suitable time).
URL:https://johnxxiii.ch/event/reconciliation-parents-meeting/
LOCATION:G1\, 57 Rue de Montbrillant\, 1202 Geneva\, 1202\, Switzerland
CATEGORIES:REC
ATTACH;FMTTYPE=image/jpeg:https://johnxxiii.ch/wp-content/uploads/2023/03/reconciliation.jpeg
ORGANIZER;CN="REC":MAILTO:dre@johnxxiii.ch
END:VEVENT
END:VCALENDAR