BEGIN:VCALENDAR
VERSION:2.0
PRODID:-//St John XXIII Parish - ECPv6.15.20//NONSGML v1.0//EN
CALSCALE:GREGORIAN
METHOD:PUBLISH
X-WR-CALNAME:St John XXIII Parish
X-ORIGINAL-URL:https://johnxxiii.ch
X-WR-CALDESC:Events for St John XXIII Parish
REFRESH-INTERVAL;VALUE=DURATION:PT1H
X-Robots-Tag:noindex
X-PUBLISHED-TTL:PT1H
BEGIN:VTIMEZONE
TZID:Europe/Zurich
BEGIN:DAYLIGHT
TZOFFSETFROM:+0100
TZOFFSETTO:+0200
TZNAME:CEST
DTSTART:20240331T010000
END:DAYLIGHT
BEGIN:STANDARD
TZOFFSETFROM:+0200
TZOFFSETTO:+0100
TZNAME:CET
DTSTART:20241027T010000
END:STANDARD
BEGIN:DAYLIGHT
TZOFFSETFROM:+0100
TZOFFSETTO:+0200
TZNAME:CEST
DTSTART:20250330T010000
END:DAYLIGHT
BEGIN:STANDARD
TZOFFSETFROM:+0200
TZOFFSETTO:+0100
TZNAME:CET
DTSTART:20251026T010000
END:STANDARD
BEGIN:DAYLIGHT
TZOFFSETFROM:+0100
TZOFFSETTO:+0200
TZNAME:CEST
DTSTART:20260329T010000
END:DAYLIGHT
BEGIN:STANDARD
TZOFFSETFROM:+0200
TZOFFSETTO:+0100
TZNAME:CET
DTSTART:20261025T010000
END:STANDARD
BEGIN:DAYLIGHT
TZOFFSETFROM:+0100
TZOFFSETTO:+0200
TZNAME:CEST
DTSTART:20270328T010000
END:DAYLIGHT
BEGIN:STANDARD
TZOFFSETFROM:+0200
TZOFFSETTO:+0100
TZNAME:CET
DTSTART:20271031T010000
END:STANDARD
END:VTIMEZONE
BEGIN:VEVENT
DTSTART;TZID=Europe/Zurich:20260314T110000
DTEND;TZID=Europe/Zurich:20260314T130000
DTSTAMP:20260423T121239
CREATED:20250806T070708Z
LAST-MODIFIED:20260122T093552Z
UID:33353-1773486000-1773493200@johnxxiii.ch
SUMMARY:Women's Brunch
DESCRIPTION:  \nYou are invited to our women’s day brunch. A gathering and celebration of sisterhood in Christ.
URL:https://johnxxiii.ch/event/womens-brunch/
LOCATION:G1\, 57 Rue de Montbrillant\, 1202 Geneva\, 1202\, Switzerland
CATEGORIES:PPC
ATTACH;FMTTYPE=image/jpeg:https://johnxxiii.ch/wp-content/uploads/2025/08/WomenBrunch1web.jpg
END:VEVENT
BEGIN:VEVENT
DTSTART;TZID=Europe/Zurich:20260214T110000
DTEND;TZID=Europe/Zurich:20260214T130000
DTSTAMP:20260423T121239
CREATED:20250915T090609Z
LAST-MODIFIED:20260107T091000Z
UID:33402-1771066800-1771074000@johnxxiii.ch
SUMMARY:Women's Brunch
DESCRIPTION:
URL:https://johnxxiii.ch/event/womens-brunch-2/
CATEGORIES:PPC
ATTACH;FMTTYPE=image/jpeg:https://johnxxiii.ch/wp-content/uploads/2025/08/WomenBrunch1web.jpg
END:VEVENT
BEGIN:VEVENT
DTSTART;TZID=Europe/Zurich:20251205T183000
DTEND;TZID=Europe/Zurich:20251205T220000
DTSTAMP:20260423T121239
CREATED:20250206T094232Z
LAST-MODIFIED:20251030T111623Z
UID:32885-1764959400-1764972000@johnxxiii.ch
SUMMARY:Advent Dinner
DESCRIPTION:Early in the season of Advent a special community dinner is organised to celebrate the preparation for the coming of Jesus Christ at Christmas. 
URL:https://johnxxiii.ch/event/advent-dinner-tentative/
LOCATION:Parish House\, 57 Rue de Montbrillant\, 1202 Geneva\, 1202\, Switzerland
CATEGORIES:PPC
ATTACH;FMTTYPE=image/jpeg:https://johnxxiii.ch/wp-content/uploads/2025/10/advent-poster-scaled-e1761817845457.jpg
END:VEVENT
BEGIN:VEVENT
DTSTART;TZID=Europe/Zurich:20250315T093000
DTEND;TZID=Europe/Zurich:20250315T140000
DTSTAMP:20260423T121239
CREATED:20250203T110142Z
LAST-MODIFIED:20250205T093106Z
UID:32805-1742031000-1742047200@johnxxiii.ch
SUMMARY:Volunteer Appreciation Event
DESCRIPTION:9:30 to 12:30 Volunteer Recollection \n12:30 to 14:00 Volunteer Lunch
URL:https://johnxxiii.ch/event/volunteers-appreciation-event/
LOCATION:Parish House\, 57 Rue de Montbrillant\, 1202 Geneva\, 1202\, Switzerland
CATEGORIES:PPC
ATTACH;FMTTYPE=image/jpeg:https://johnxxiii.ch/wp-content/uploads/2025/02/Volunteer-flyer-for-eventpage.jpg
END:VEVENT
END:VCALENDAR