BEGIN:VCALENDAR
VERSION:2.0
PRODID:-//St John XXIII Parish - ECPv6.15.20//NONSGML v1.0//EN
CALSCALE:GREGORIAN
METHOD:PUBLISH
X-ORIGINAL-URL:https://johnxxiii.ch
X-WR-CALDESC:Events for St John XXIII Parish
REFRESH-INTERVAL;VALUE=DURATION:PT1H
X-Robots-Tag:noindex
X-PUBLISHED-TTL:PT1H
BEGIN:VTIMEZONE
TZID:Europe/Zurich
BEGIN:DAYLIGHT
TZOFFSETFROM:+0100
TZOFFSETTO:+0200
TZNAME:CEST
DTSTART:20240331T010000
END:DAYLIGHT
BEGIN:STANDARD
TZOFFSETFROM:+0200
TZOFFSETTO:+0100
TZNAME:CET
DTSTART:20241027T010000
END:STANDARD
BEGIN:DAYLIGHT
TZOFFSETFROM:+0100
TZOFFSETTO:+0200
TZNAME:CEST
DTSTART:20250330T010000
END:DAYLIGHT
BEGIN:STANDARD
TZOFFSETFROM:+0200
TZOFFSETTO:+0100
TZNAME:CET
DTSTART:20251026T010000
END:STANDARD
BEGIN:DAYLIGHT
TZOFFSETFROM:+0100
TZOFFSETTO:+0200
TZNAME:CEST
DTSTART:20260329T010000
END:DAYLIGHT
BEGIN:STANDARD
TZOFFSETFROM:+0200
TZOFFSETTO:+0100
TZNAME:CET
DTSTART:20261025T010000
END:STANDARD
END:VTIMEZONE
BEGIN:VEVENT
DTSTART;TZID=Europe/Zurich:20250624T183000
DTEND;TZID=Europe/Zurich:20250624T193000
DTSTAMP:20260423T150637
CREATED:20250508T090148Z
LAST-MODIFIED:20250514T075336Z
UID:33155-1750789800-1750793400@johnxxiii.ch
SUMMARY:General Assembly
DESCRIPTION:
URL:https://johnxxiii.ch/event/general-assembly/
LOCATION:G1\, 57 Rue de Montbrillant\, 1202 Geneva\, 1202\, Switzerland
CATEGORIES:PAC
ATTACH;FMTTYPE=image/jpeg:https://johnxxiii.ch/wp-content/uploads/2025/05/admincouncil.jpg
END:VEVENT
END:VCALENDAR