BEGIN:VCALENDAR
VERSION:2.0
PRODID:-//St John XXIII Parish - ECPv6.15.20//NONSGML v1.0//EN
CALSCALE:GREGORIAN
METHOD:PUBLISH
X-WR-CALNAME:St John XXIII Parish
X-ORIGINAL-URL:https://johnxxiii.ch
X-WR-CALDESC:Events for St John XXIII Parish
REFRESH-INTERVAL;VALUE=DURATION:PT1H
X-Robots-Tag:noindex
X-PUBLISHED-TTL:PT1H
BEGIN:VTIMEZONE
TZID:Europe/Zurich
BEGIN:DAYLIGHT
TZOFFSETFROM:+0100
TZOFFSETTO:+0200
TZNAME:CEST
DTSTART:20250330T010000
END:DAYLIGHT
BEGIN:STANDARD
TZOFFSETFROM:+0200
TZOFFSETTO:+0100
TZNAME:CET
DTSTART:20251026T010000
END:STANDARD
BEGIN:DAYLIGHT
TZOFFSETFROM:+0100
TZOFFSETTO:+0200
TZNAME:CEST
DTSTART:20260329T010000
END:DAYLIGHT
BEGIN:STANDARD
TZOFFSETFROM:+0200
TZOFFSETTO:+0100
TZNAME:CET
DTSTART:20261025T010000
END:STANDARD
BEGIN:DAYLIGHT
TZOFFSETFROM:+0100
TZOFFSETTO:+0200
TZNAME:CEST
DTSTART:20270328T010000
END:DAYLIGHT
BEGIN:STANDARD
TZOFFSETFROM:+0200
TZOFFSETTO:+0100
TZNAME:CET
DTSTART:20271031T010000
END:STANDARD
END:VTIMEZONE
BEGIN:VEVENT
DTSTART;TZID=Europe/Zurich:20260425T100000
DTEND;TZID=Europe/Zurich:20260425T130000
DTSTAMP:20260423T105940
CREATED:20260107T094124Z
LAST-MODIFIED:20260107T094124Z
UID:33661-1777111200-1777122000@johnxxiii.ch
SUMMARY:Growth in Prayer and Reflective Living (GPRL)
DESCRIPTION:The GPRL Programme for 2026 invites participants to deepen their relationship with God through prayer\, reflection\, and lived experience. While the programme includes input on different aspects of prayer and Ignatian spirituality\, its primary emphasis is experiential. Participants are invited to discover\, for themselves\, a God who is personal and present in their lives.
URL:https://johnxxiii.ch/event/growth-in-prayer-and-reflective-living-gprl-3/
LOCATION:G1\, 57 Rue de Montbrillant\, 1202 Geneva\, 1202\, Switzerland
CATEGORIES:Liturgical
ATTACH;FMTTYPE=image/jpeg:https://johnxxiii.ch/wp-content/uploads/2026/01/gprl2025.jpg
END:VEVENT
END:VCALENDAR