BEGIN:VCALENDAR
VERSION:2.0
PRODID:-//St John XXIII Parish - ECPv6.15.20//NONSGML v1.0//EN
CALSCALE:GREGORIAN
METHOD:PUBLISH
X-ORIGINAL-URL:https://johnxxiii.ch
X-WR-CALDESC:Events for St John XXIII Parish
REFRESH-INTERVAL;VALUE=DURATION:PT1H
X-Robots-Tag:noindex
X-PUBLISHED-TTL:PT1H
BEGIN:VTIMEZONE
TZID:Europe/Zurich
BEGIN:DAYLIGHT
TZOFFSETFROM:+0100
TZOFFSETTO:+0200
TZNAME:CEST
DTSTART:20250330T010000
END:DAYLIGHT
BEGIN:STANDARD
TZOFFSETFROM:+0200
TZOFFSETTO:+0100
TZNAME:CET
DTSTART:20251026T010000
END:STANDARD
BEGIN:DAYLIGHT
TZOFFSETFROM:+0100
TZOFFSETTO:+0200
TZNAME:CEST
DTSTART:20260329T010000
END:DAYLIGHT
BEGIN:STANDARD
TZOFFSETFROM:+0200
TZOFFSETTO:+0100
TZNAME:CET
DTSTART:20261025T010000
END:STANDARD
BEGIN:DAYLIGHT
TZOFFSETFROM:+0100
TZOFFSETTO:+0200
TZNAME:CEST
DTSTART:20270328T010000
END:DAYLIGHT
BEGIN:STANDARD
TZOFFSETFROM:+0200
TZOFFSETTO:+0100
TZNAME:CET
DTSTART:20271031T010000
END:STANDARD
END:VTIMEZONE
BEGIN:VEVENT
DTSTART;TZID=Europe/Zurich:20260503T090000
DTEND;TZID=Europe/Zurich:20260503T090000
DTSTAMP:20260423T061726
CREATED:20250205T095146Z
LAST-MODIFIED:20260106T105500Z
UID:32854-1777798800-1777798800@johnxxiii.ch
SUMMARY:Barrio Fiesta
DESCRIPTION:Our Filipino Community will have a ‘Barrio Fiesta’ food sale which will showcase the various Filipino food and delicacies after the 9 and 11 masses.
URL:https://johnxxiii.ch/event/barrio-fiesta/
LOCATION:Church Grounds\, 57 Rue de Montbrillant\, 1202 Geneva\, 1202\, Switzerland
CATEGORIES:Fundraising
ATTACH;FMTTYPE=image/png:https://johnxxiii.ch/wp-content/uploads/2023/04/Barrio-fiesta.png
ORGANIZER;CN="office":MAILTO:web@johnxxiii.ch
END:VEVENT
BEGIN:VEVENT
DTSTART;TZID=Europe/Zurich:20260531T090000
DTEND;TZID=Europe/Zurich:20260531T163000
DTSTAMP:20260423T061726
CREATED:20250205T102306Z
LAST-MODIFIED:20260106T105707Z
UID:32873-1780218000-1780245000@johnxxiii.ch
SUMMARY:International Food Festival
DESCRIPTION:Every year our food festival is the fundraising event for our parish. The parish relies on the money raised to help maintain our facilities and fund our youth programmes.
URL:https://johnxxiii.ch/event/international-food-festival/
LOCATION:Church Grounds\, 57 Rue de Montbrillant\, 1202 Geneva\, 1202\, Switzerland
CATEGORIES:Fundraising
ATTACH;FMTTYPE=image/jpeg:https://johnxxiii.ch/wp-content/uploads/2022/05/foodfestival1.jpg
ORGANIZER;CN="office":MAILTO:web@johnxxiii.ch
END:VEVENT
END:VCALENDAR