BEGIN:VCALENDAR
VERSION:2.0
PRODID:-//St John XXIII Parish - ECPv6.15.20//NONSGML v1.0//EN
CALSCALE:GREGORIAN
METHOD:PUBLISH
X-ORIGINAL-URL:https://johnxxiii.ch
X-WR-CALDESC:Events for St John XXIII Parish
REFRESH-INTERVAL;VALUE=DURATION:PT1H
X-Robots-Tag:noindex
X-PUBLISHED-TTL:PT1H
BEGIN:VTIMEZONE
TZID:Europe/Zurich
BEGIN:DAYLIGHT
TZOFFSETFROM:+0100
TZOFFSETTO:+0200
TZNAME:CEST
DTSTART:20240331T010000
END:DAYLIGHT
BEGIN:STANDARD
TZOFFSETFROM:+0200
TZOFFSETTO:+0100
TZNAME:CET
DTSTART:20241027T010000
END:STANDARD
BEGIN:DAYLIGHT
TZOFFSETFROM:+0100
TZOFFSETTO:+0200
TZNAME:CEST
DTSTART:20250330T010000
END:DAYLIGHT
BEGIN:STANDARD
TZOFFSETFROM:+0200
TZOFFSETTO:+0100
TZNAME:CET
DTSTART:20251026T010000
END:STANDARD
BEGIN:DAYLIGHT
TZOFFSETFROM:+0100
TZOFFSETTO:+0200
TZNAME:CEST
DTSTART:20260329T010000
END:DAYLIGHT
BEGIN:STANDARD
TZOFFSETFROM:+0200
TZOFFSETTO:+0100
TZNAME:CET
DTSTART:20261025T010000
END:STANDARD
END:VTIMEZONE
BEGIN:VEVENT
DTSTART;TZID=Europe/Zurich:20251207T090000
DTEND;TZID=Europe/Zurich:20251207T120000
DTSTAMP:20260424T011133
CREATED:20250206T102212Z
LAST-MODIFIED:20250206T102212Z
UID:32896-1765098000-1765108800@johnxxiii.ch
SUMMARY:Christmas Market Sale
DESCRIPTION: Selection of stalls showcasing various items allowing you to purchase some Christmas homemade crafts from advent wreaths\, decorations\, cards and specialty jams. All items for sale are made and prepared by our generous parishioners
URL:https://johnxxiii.ch/event/christmas-market-sale/
LOCATION:Church Grounds\, 57 Rue de Montbrillant\, 1202 Geneva\, 1202\, Switzerland
ATTACH;FMTTYPE=image/jpeg:https://johnxxiii.ch/wp-content/uploads/2024/11/Christmasmarketforweb.jpg
ORGANIZER;CN="office":MAILTO:web@johnxxiii.ch
END:VEVENT
END:VCALENDAR